BEGIN:VCALENDAR
VERSION:2.0
PRODID:-//Webdesign M&uuml;nster | Jan Eggebrecht - ECPv6.15.20//NONSGML v1.0//EN
CALSCALE:GREGORIAN
METHOD:PUBLISH
X-ORIGINAL-URL:https://je-webdesign.de
X-WR-CALDESC:Veranstaltungen für Webdesign M&uuml;nster | Jan Eggebrecht
REFRESH-INTERVAL;VALUE=DURATION:PT1H
X-Robots-Tag:noindex
X-PUBLISHED-TTL:PT1H
BEGIN:VTIMEZONE
TZID:Europe/Berlin
BEGIN:DAYLIGHT
TZOFFSETFROM:+0100
TZOFFSETTO:+0200
TZNAME:CEST
DTSTART:20240331T010000
END:DAYLIGHT
BEGIN:STANDARD
TZOFFSETFROM:+0200
TZOFFSETTO:+0100
TZNAME:CET
DTSTART:20241027T010000
END:STANDARD
BEGIN:DAYLIGHT
TZOFFSETFROM:+0100
TZOFFSETTO:+0200
TZNAME:CEST
DTSTART:20250330T010000
END:DAYLIGHT
BEGIN:STANDARD
TZOFFSETFROM:+0200
TZOFFSETTO:+0100
TZNAME:CET
DTSTART:20251026T010000
END:STANDARD
BEGIN:DAYLIGHT
TZOFFSETFROM:+0100
TZOFFSETTO:+0200
TZNAME:CEST
DTSTART:20260329T010000
END:DAYLIGHT
BEGIN:STANDARD
TZOFFSETFROM:+0200
TZOFFSETTO:+0100
TZNAME:CET
DTSTART:20261025T010000
END:STANDARD
END:VTIMEZONE
BEGIN:VEVENT
DTSTART;TZID=Europe/Berlin:20250620T190000
DTEND;TZID=Europe/Berlin:20250620T190000
DTSTAMP:20260421T164313
CREATED:20250518T135840Z
LAST-MODIFIED:20250518T140208Z
UID:2055-1750446000-1750446000@je-webdesign.de
SUMMARY:Vereinsabend
DESCRIPTION:
URL:https://je-webdesign.de/termine/vereinsabend-2/
LOCATION:JUBB Werden\, Wesselswerth 10\, Essen-Werden\, Nordrhein-Westfalen\, 45239\, Germany
END:VEVENT
BEGIN:VEVENT
DTSTART;TZID=Europe/Berlin:20250613T180000
DTEND;TZID=Europe/Berlin:20250613T180000
DTSTAMP:20260421T164313
CREATED:20250518T135814Z
LAST-MODIFIED:20250518T135943Z
UID:2053-1749837600-1749837600@je-webdesign.de
SUMMARY:Jahreshauptversammlung und Siegerehrung
DESCRIPTION:
URL:https://je-webdesign.de/termine/jahreshauptversammlung-und-siegerehrung/
LOCATION:JUBB Werden\, Wesselswerth 10\, Essen-Werden\, Nordrhein-Westfalen\, 45239\, Germany
END:VEVENT
BEGIN:VEVENT
DTSTART;VALUE=DATE:20250608
DTEND;VALUE=DATE:20250609
DTSTAMP:20260421T164313
CREATED:20250518T114333Z
LAST-MODIFIED:20250518T134849Z
UID:2040-1749340800-1749427199@je-webdesign.de
SUMMARY:Jugendopen
DESCRIPTION:Anmeldung unter xyz. \nHier geht es zur Ausschreibung!
URL:https://je-webdesign.de/termine/jugendopen/
LOCATION:Mariengymnasium Werden\, Brückstraße 108\, 45239 Essen\, Brückstraße 108\, Essen\, Nordrhein-Westfalen\, 45239\, Germany
END:VEVENT
BEGIN:VEVENT
DTSTART;TZID=Europe/Berlin:20250606T190000
DTEND;TZID=Europe/Berlin:20250606T190000
DTSTAMP:20260421T164313
CREATED:20250518T135618Z
LAST-MODIFIED:20250518T135650Z
UID:2049-1749236400-1749236400@je-webdesign.de
SUMMARY:Vereinsabend und Vorbereitung Jugendopen
DESCRIPTION:
URL:https://je-webdesign.de/termine/vereinsabend-und-vorbereitung-jugendopen/
LOCATION:Nordrhein-Westfalen
END:VEVENT
BEGIN:VEVENT
DTSTART;TZID=Europe/Berlin:20250530T190000
DTEND;TZID=Europe/Berlin:20250530T190000
DTSTAMP:20260421T164313
CREATED:20250518T135729Z
LAST-MODIFIED:20250518T135740Z
UID:2051-1748631600-1748631600@je-webdesign.de
SUMMARY:Vereinsabend
DESCRIPTION:
URL:https://je-webdesign.de/termine/vereinsabend/
LOCATION:JUBB Werden\, Wesselswerth 10\, Essen-Werden\, Nordrhein-Westfalen\, 45239\, Germany
END:VEVENT
BEGIN:VEVENT
DTSTART;TZID=Europe/Berlin:20250525T110000
DTEND;TZID=Europe/Berlin:20250525T110000
DTSTAMP:20260421T164313
CREATED:20250518T113700Z
LAST-MODIFIED:20250520T114111Z
UID:2033-1748170800-1748170800@je-webdesign.de
SUMMARY:NRW-Jugendliga (7. Rd.): SG Kaarst I - SF Werden I
DESCRIPTION:NRW-Jugendliga (7. Rd.): SG Kaarst I – SF Werden I (11:00 Uhr)\nVHS Kaarst\, Räume 208 bis 213 (2. Stock)\, Am Schulzentrum 18\, 41564 Kaarst
URL:https://je-webdesign.de/termine/nrw-jugendliga-7-rd-sg-kaarst-i-sf-werden-i/
LOCATION:Nordrhein-Westfalen
END:VEVENT
BEGIN:VEVENT
DTSTART;TZID=Europe/Berlin:20250523T193000
DTEND;TZID=Europe/Berlin:20250523T193000
DTSTAMP:20260421T164313
CREATED:20250513T090758Z
LAST-MODIFIED:20250520T114119Z
UID:1897-1748028600-1748028600@je-webdesign.de
SUMMARY:Schnellschachpokal (4. Runde)
DESCRIPTION:
URL:https://je-webdesign.de/termine/schnellschachpokal-4-runde/
LOCATION:JUBB Werden\, Wesselswerth 10\, Essen-Werden\, Nordrhein-Westfalen\, 45239\, Germany
END:VEVENT
BEGIN:VEVENT
DTSTART;TZID=Europe/Berlin:20250516T193000
DTEND;TZID=Europe/Berlin:20250516T193000
DTSTAMP:20260421T164313
CREATED:20250513T090613Z
LAST-MODIFIED:20250520T114034Z
UID:1895-1747423800-1747423800@je-webdesign.de
SUMMARY:Vereinsmeisterschaft (7. Runde)
DESCRIPTION:
URL:https://je-webdesign.de/termine/vereinsmeisterschaft-7-runde/
LOCATION:JUBB Werden\, Wesselswerth 10\, Essen-Werden\, Nordrhein-Westfalen\, 45239\, Germany
END:VEVENT
BEGIN:VEVENT
DTSTART;TZID=Europe/Berlin:20250509T230000
DTEND;TZID=Europe/Berlin:20250510T003000
DTSTAMP:20260421T164313
CREATED:20250413T185031Z
LAST-MODIFIED:20250413T185031Z
UID:862-1746831600-1746837000@je-webdesign.de
SUMMARY:6. Runde
DESCRIPTION:
URL:https://je-webdesign.de/termine/6-runde/
LOCATION:Nordrhein-Westfalen
END:VEVENT
BEGIN:VEVENT
DTSTART;TZID=Europe/Berlin:20250508T090000
DTEND;TZID=Europe/Berlin:20250509T000000
DTSTAMP:20260421T164313
CREATED:20250413T172458Z
LAST-MODIFIED:20250413T172458Z
UID:788-1746694800-1746748800@je-webdesign.de
SUMMARY:Vereinsmeisterschaft (5. Runde)
DESCRIPTION:Die 5. Runde der Vereinsmeisterschaft findet am 07.03.2025 statt\, aktuell führt Jens Rehfeldt überraschend
URL:https://je-webdesign.de/termine/vereinsmeisterschaft-5-runde/
LOCATION:JUBB Werden\, Wesselswerth 10\, Essen-Werden\, Nordrhein-Westfalen\, 45239\, Germany
END:VEVENT
END:VCALENDAR